BEGIN:VCALENDAR
VERSION:2.0
PRODID:-//hacksw/handcal//NONSGML v1.0//EN
BEGIN:VEVENT
SUMMARY:Les Rando MONTAPEINE - Sorties du SAMEDI 150 ou 200 kms
UID:f40686c0-a410-4db3-a883-aa7e6cb09546
DTSTART:20260425T060000Z
DTEND:20260425T220000Z
LOCATION:Localisation Gymnase Tauziet avenue du president Salvador Allende 77100 meaux
CATEGORIES:Sportif
STATUS:
DESCRIPTION:<p>Distances ROUTE: 150 / 200</p>
 
 <p>Site internet <a
 href="https://www.meaux-cyclo-touriste.fr/" target="_blank"
 rel="noreferrer
 noopener">https://www.meaux-cyclo-touriste.fr/</a></p>
 
 <p><a
 href="https://connect.garmin.com/app/course/451499221"
 target="_blank" rel="noreferrer noopener">Trace 150
 kms</a></p>
 
 <p><a
 href="https://connect.garmin.com/app/course/451501070"
 target="_blank" rel="noreferrer noopener">Trace 200
 kms</a></p>
 
 <p>Merci d'indiquer le KM souhaite dans les
 commentaires que l'on organise les groupes.</p>
 
 <p>Pour les
 inscriptions, demandez a etre inscrit sur la liste (liste qui a ete
 envoyee par le bureau aux organisateurs), nous procederons au
 reglement.</p>
 
 <p>DEPART a 8H</p>
 
 <p> </p>
 
 <p> </p>
URL;VALUE=URI:https://www.usmv-route-vtt.org/evenements/2026/04/25/les-rando-montapeine-sorties-du-samedi-150-ou-200-kms-2414672
END:VEVENT
END:VCALENDAR
